BEGIN:VCALENDAR
METHOD:PUBLISH
X-WR-TIMEZONE:America/Denver
PRODID:-//Hold My Ticket.//HMT Web App//EN
CALSCALE:GREGORIAN
METHOD:PUBLISH
X-WR-CALNAME:Twilight Cafe and Bar
X-WR-CALDESC:Upcoming events at Twilight Cafe and Bar
BEGIN:VTIMEZONE
TZID:America/Denver 
END:VTIMEZONE
BEGIN:VEVENT
SEQUENCE:2
TRANSP:OPAQUE
UID:54ab47333e7c9bb9aef0dc72e00d696c
DTSTART:20260422T200000
DTSTAMP:20260417T113317Z
SUMMARY:Grunge Night! Featuring performers playing music by Nirvana, Pearl Jam, Sound Garden, Audioslave & More!!!
DESCRIPTION:
CREATED:20260417T113317Z
URL;VALUE=URI:http://holdmyticket.com/event/460060 

DTEND:20260422T234500
END:VEVENT
END:VCALENDAR