BEGIN:VCALENDAR
METHOD:PUBLISH
X-WR-TIMEZONE:America/Los_Angeles
PRODID:-//Hold My Ticket.//HMT Web App//EN
CALSCALE:GREGORIAN
METHOD:PUBLISH
X-WR-CALNAME:The Big Dipper
X-WR-CALDESC:Upcoming events at The Big Dipper
BEGIN:VTIMEZONE
TZID:America/Los_Angeles 
END:VTIMEZONE
BEGIN:VEVENT
SEQUENCE:2
TRANSP:OPAQUE
UID:6bc5cd9a6614b33316917c2ff6962b88
DTSTART:20260523T190000
DTSTAMP:20260328T132128Z
SUMMARY:Being As An Ocean
DESCRIPTION:
CREATED:20260328T132128Z
URL;VALUE=URI:http://holdmyticket.com/event/460062 

DTEND:20260523T223000
END:VEVENT
END:VCALENDAR