BEGIN:VCALENDAR
METHOD:PUBLISH
X-WR-TIMEZONE:America/New_York
PRODID:-//Hold My Ticket.//HMT Web App//EN
CALSCALE:GREGORIAN
METHOD:PUBLISH
X-WR-CALNAME:Terra Fermata
X-WR-CALDESC:Upcoming events at Terra Fermata
BEGIN:VTIMEZONE
TZID:America/New_York 
END:VTIMEZONE
BEGIN:VEVENT
SEQUENCE:2
TRANSP:OPAQUE
UID:4f4568830812ae87c457159948be3d62
DTSTART:20260508T190000
DTSTAMP:20260311T113142Z
SUMMARY:SOULJAM
DESCRIPTION:Advance tickets $12.51 total cost. $15 at the door. Get ready for a night of deep grooves and improvisational energy as Souljam returns to Terra Fermata.

Hailing from nearby Vero Beach, Souljam has built a strong following across Florida's live-music circuit since forming in 2014. The band blends classic jam-band spirit with original songwriting, weaving together influences from artists like The Allman Brothers Band, Widespread Panic, and Umphrey's McGee while creating a sound that's uniquely their own.

Featuring soulful vocals, powerful ensemble playing, and extended improvisational jams, the band mixes original music with carefully chosen covers, always putting creativity and musical interplay at the center of their shows.

Fans can expect dynamic guitar work, rich keys, driving rhythm, and the kind of spontaneous moments that make every Souljam performance different from the last. Their live shows have earned them a reputation as one of the Treasure Coast's most exciting regional jam acts.

When Souljam hits the Terra Fermata stage, the dance floor fills up fast -- and the grooves keep rolling all night.

🔥 Don't miss their return to one of the Treasure Coast's favorite live music venues.
$10 Presales
$15 Door
CREATED:20260311T113142Z
URL;VALUE=URI:http://holdmyticket.com/event/460452 

DTEND:20260508T220000
END:VEVENT
END:VCALENDAR