BEGIN:VCALENDAR
METHOD:PUBLISH
X-WR-TIMEZONE:America/Denver
PRODID:-//Hold My Ticket.//HMT Web App//EN
CALSCALE:GREGORIAN
METHOD:PUBLISH
X-WR-CALNAME:Buffalo Rose
X-WR-CALDESC:Upcoming events at Buffalo Rose
BEGIN:VTIMEZONE
TZID:America/Denver 
END:VTIMEZONE
BEGIN:VEVENT
SEQUENCE:2
TRANSP:OPAQUE
UID:e7d4ac300daa219925e7648bc80225a3
DTSTART:20260513T190000
DTSTAMP:20260311T194319Z
SUMMARY:Country Line Dancing Night @ The Rose
DESCRIPTION:Get ready to boot scoot and boogie at Golden's hottest country night! Join Jeff Goodwin and the Front Range Cowboys for an evening of toe-tapping tunes and line dancing that'll have you two-stepping till closing time. 
CREATED:20260311T194319Z
URL;VALUE=URI:http://holdmyticket.com/event/460469 

DTEND:20260513T220000
END:VEVENT
END:VCALENDAR