BEGIN:VCALENDAR
METHOD:PUBLISH
X-WR-TIMEZONE:America/Denver
PRODID:-//Hold My Ticket.//HMT Web App//EN
CALSCALE:GREGORIAN
METHOD:PUBLISH
X-WR-CALNAME:Buffalo Rose
X-WR-CALDESC:Upcoming events at Buffalo Rose
BEGIN:VTIMEZONE
TZID:America/Denver 
END:VTIMEZONE
BEGIN:VEVENT
SEQUENCE:2
TRANSP:OPAQUE
UID:1dc2d007a9345a75e17540861cce28ec
DTSTART:20260610T190000
DTSTAMP:20260311T194605Z
SUMMARY:Country Line Dancing Night @ The Rose
DESCRIPTION:Get ready to boot scoot and boogie at Golden's hottest country night! Join Jeff Goodwin and the Front Range Cowboys for an evening of toe-tapping tunes and line dancing that'll have you two-stepping till closing time. 
CREATED:20260311T194605Z
URL;VALUE=URI:http://holdmyticket.com/event/460470 

DTEND:20260610T220000
END:VEVENT
END:VCALENDAR