BEGIN:VCALENDAR
METHOD:PUBLISH
X-WR-TIMEZONE:Pacific/Honolulu
PRODID:-//Hold My Ticket.//HMT Web App//EN
CALSCALE:GREGORIAN
METHOD:PUBLISH
X-WR-CALNAME:Blaisdell Concert Hall
X-WR-CALDESC:Upcoming events at Blaisdell Concert Hall
BEGIN:VTIMEZONE
TZID:Pacific/Honolulu 
END:VTIMEZONE
BEGIN:VEVENT
SEQUENCE:2
TRANSP:OPAQUE
UID:5940c9e9b5cd05145153f296493b21ce
DTSTART:20260514T190000
DTSTAMP:20260313T122319Z
SUMMARY:Jack Johnson: SURFILMUSIC
DESCRIPTION:
CREATED:20260313T122319Z
URL;VALUE=URI:http://holdmyticket.com/event/460593 

DTEND:20260514T220000
END:VEVENT
END:VCALENDAR