BEGIN:VCALENDAR
METHOD:PUBLISH
X-WR-TIMEZONE:America/Denver
PRODID:-//Hold My Ticket.//HMT Web App//EN
CALSCALE:GREGORIAN
METHOD:PUBLISH
X-WR-CALNAME:Launchpad
X-WR-CALDESC:Upcoming events at Launchpad
BEGIN:VTIMEZONE
TZID:America/Denver 
END:VTIMEZONE
BEGIN:VEVENT
SEQUENCE:2
TRANSP:OPAQUE
UID:148460159e10d3add44cea7ce0b16127
DTSTART:20260430T200000
DTSTAMP:20260402T125247Z
SUMMARY:Three Bad Jacks * The Wreckin Katz * Jacob Shije
DESCRIPTION:
CREATED:20260402T125247Z
URL;VALUE=URI:http://holdmyticket.com/event/460595 

DTEND:20260430T230000
END:VEVENT
END:VCALENDAR