BEGIN:VCALENDAR
METHOD:PUBLISH
X-WR-TIMEZONE:America/Denver
PRODID:-//Hold My Ticket.//HMT Web App//EN
CALSCALE:GREGORIAN
METHOD:PUBLISH
X-WR-CALNAME:Sunshine Theater
X-WR-CALDESC:Upcoming events at Sunshine Theater
BEGIN:VTIMEZONE
TZID:America/Denver 
END:VTIMEZONE
BEGIN:VEVENT
SEQUENCE:2
TRANSP:OPAQUE
UID:72ab402c12b29c9c055cf18aa47a5e9b
DTSTART:20260811T193000
DTSTAMP:20260422T110050Z
SUMMARY:The Sword * Red Fang * Spoon Benders 
DESCRIPTION:* The Sword * Red Fang * Spoon Benders  *
CREATED:20260422T110050Z
URL;VALUE=URI:http://holdmyticket.com/event/460690 

DTEND:20260811T223000
END:VEVENT
END:VCALENDAR