BEGIN:VCALENDAR
METHOD:PUBLISH
X-WR-TIMEZONE:America/Chicago
PRODID:-//Hold My Ticket.//HMT Web App//EN
CALSCALE:GREGORIAN
METHOD:PUBLISH
X-WR-CALNAME:Luckenbach Texas
X-WR-CALDESC:Upcoming events at Luckenbach Texas
BEGIN:VTIMEZONE
TZID:America/Chicago 
END:VTIMEZONE
BEGIN:VEVENT
SEQUENCE:2
TRANSP:OPAQUE
UID:0666d721f1a9a7c8cc24c2d4974c750b
DTSTART:20260528T180000
DTSTAMP:20260318T112507Z
SUMMARY:Jimmy Lee Jones (Trio)
DESCRIPTION:
CREATED:20260318T112507Z
URL;VALUE=URI:http://holdmyticket.com/event/460739 

DTEND:20260528T210000
END:VEVENT
END:VCALENDAR