BEGIN:VCALENDAR
METHOD:PUBLISH
X-WR-TIMEZONE:America/New_York
PRODID:-//Hold My Ticket.//HMT Web App//EN
CALSCALE:GREGORIAN
METHOD:PUBLISH
X-WR-CALNAME:Terra Fermata
X-WR-CALDESC:Upcoming events at Terra Fermata
BEGIN:VTIMEZONE
TZID:America/New_York 
END:VTIMEZONE
BEGIN:VEVENT
SEQUENCE:2
TRANSP:OPAQUE
UID:cd6ebcf17cb545a043156b91024c492e
DTSTART:20260429T190000
DTSTAMP:20260318T131812Z
SUMMARY:LEATHER & LACE Soft and Classic Rock Duo
DESCRIPTION:$5 Admisssion. We like them so much, they're back all month on Wednesdays. Hear your favorite tunes from various genres. Perfect for a romantic date night.
CREATED:20260318T131812Z
URL;VALUE=URI:http://holdmyticket.com/event/460748 

DTEND:20260429T220000
END:VEVENT
END:VCALENDAR