BEGIN:VCALENDAR
METHOD:PUBLISH
X-WR-TIMEZONE:America/New_York
PRODID:-//Hold My Ticket.//HMT Web App//EN
CALSCALE:GREGORIAN
METHOD:PUBLISH
X-WR-CALNAME:Terra Fermata
X-WR-CALDESC:Upcoming events at Terra Fermata
BEGIN:VTIMEZONE
TZID:America/New_York 
END:VTIMEZONE
BEGIN:VEVENT
SEQUENCE:2
TRANSP:OPAQUE
UID:a20d35269b3ab80a44c43bab1474f5ca
DTSTART:20260514T190000
DTSTAMP:20260330T131401Z
SUMMARY:BADFISH - A Tribute To Sublime, with openers Grateful Dub, Grieves
DESCRIPTION:Advance tickets $35.26 total cost. Join Club Badfish! Get notified about exclusive content, merch, tours and event drops... It's F-R-E-E 👉 ClubBadfish.com
CREATED:20260330T131401Z
URL;VALUE=URI:http://holdmyticket.com/event/460749 

DTEND:20260514T220000
END:VEVENT
END:VCALENDAR