BEGIN:VCALENDAR
METHOD:PUBLISH
X-WR-TIMEZONE:America/Denver
PRODID:-//Hold My Ticket.//HMT Web App//EN
CALSCALE:GREGORIAN
METHOD:PUBLISH
X-WR-CALNAME:EL REY THEATER
X-WR-CALDESC:Upcoming events at EL REY THEATER
BEGIN:VTIMEZONE
TZID:America/Denver 
END:VTIMEZONE
BEGIN:VEVENT
SEQUENCE:2
TRANSP:OPAQUE
UID:a9ff040523f08a9a570f46c5faf4b394
DTSTART:20260627T200000
DTSTAMP:20260320T110049Z
SUMMARY:Shordie Shordie 
DESCRIPTION:
CREATED:20260320T110049Z
URL;VALUE=URI:http://holdmyticket.com/event/460829 

DTEND:20260628T000000
END:VEVENT
END:VCALENDAR