BEGIN:VCALENDAR
METHOD:PUBLISH
X-WR-TIMEZONE:America/Denver
PRODID:-//Hold My Ticket.//HMT Web App//EN
CALSCALE:GREGORIAN
METHOD:PUBLISH
X-WR-CALNAME:Rock Island Live
X-WR-CALDESC:Upcoming events at Rock Island Live
BEGIN:VTIMEZONE
TZID:America/Denver 
END:VTIMEZONE
BEGIN:VEVENT
SEQUENCE:2
TRANSP:OPAQUE
UID:48e6e146d07cc849a4ca4e3258668f79
DTSTART:20260329T210000
DTSTAMP:20260319T192150Z
SUMMARY:T-Rell Birthday Bash w/ Ray J
DESCRIPTION:
CREATED:20260319T192150Z
URL;VALUE=URI:http://holdmyticket.com/event/460838 

DTEND:20260330T020000
END:VEVENT
END:VCALENDAR