BEGIN:VCALENDAR
METHOD:PUBLISH
X-WR-TIMEZONE:America/Denver
PRODID:-//Hold My Ticket.//HMT Web App//EN
CALSCALE:GREGORIAN
METHOD:PUBLISH
X-WR-CALNAME:Buffalo Rose
X-WR-CALDESC:Upcoming events at Buffalo Rose
BEGIN:VTIMEZONE
TZID:America/Denver 
END:VTIMEZONE
BEGIN:VEVENT
SEQUENCE:2
TRANSP:OPAQUE
UID:cd5d4f0449192fa58d715d78a2c6202e
DTSTART:20260712T120000
DTSTAMP:20260417T080049Z
SUMMARY:William Topley Acoustic Brunch
DESCRIPTION:
CREATED:20260417T080049Z
URL;VALUE=URI:http://holdmyticket.com/event/460851 

DTEND:20260712T143000
END:VEVENT
END:VCALENDAR