BEGIN:VCALENDAR
METHOD:PUBLISH
X-WR-TIMEZONE:America/Denver
PRODID:-//Hold My Ticket.//HMT Web App//EN
CALSCALE:GREGORIAN
METHOD:PUBLISH
X-WR-CALNAME:Buffalo Rose
X-WR-CALDESC:Upcoming events at Buffalo Rose
BEGIN:VTIMEZONE
TZID:America/Denver 
END:VTIMEZONE
BEGIN:VEVENT
SEQUENCE:2
TRANSP:OPAQUE
UID:802ab8d5c2a935cd659768bf08d01265
DTSTART:20260712T110000
DTSTAMP:20260419T184054Z
SUMMARY:William Topley Brunch
DESCRIPTION:
CREATED:20260419T184054Z
URL;VALUE=URI:http://holdmyticket.com/event/460853 

DTEND:20260712T140000
END:VEVENT
END:VCALENDAR