BEGIN:VCALENDAR
METHOD:PUBLISH
X-WR-TIMEZONE:America/Denver
PRODID:-//Hold My Ticket.//HMT Web App//EN
CALSCALE:GREGORIAN
METHOD:PUBLISH
X-WR-CALNAME:Sunshine Theater
X-WR-CALDESC:Upcoming events at Sunshine Theater
BEGIN:VTIMEZONE
TZID:America/Denver 
END:VTIMEZONE
BEGIN:VEVENT
SEQUENCE:2
TRANSP:OPAQUE
UID:8adc2ef9c32a67a5d661761e6bbbff36
DTSTART:20260420T170000
DTSTAMP:20260403T054736Z
SUMMARY:Juggalo Championship Wrestling - EARLY PRE-SHOW EVENT 
DESCRIPTION:
CREATED:20260403T054736Z
URL;VALUE=URI:http://holdmyticket.com/event/460855 

DTEND:20260420T180000
END:VEVENT
END:VCALENDAR