BEGIN:VCALENDAR
METHOD:PUBLISH
X-WR-TIMEZONE:America/New_York
PRODID:-//Hold My Ticket.//HMT Web App//EN
CALSCALE:GREGORIAN
METHOD:PUBLISH
X-WR-CALNAME:Terra Fermata
X-WR-CALDESC:Upcoming events at Terra Fermata
BEGIN:VTIMEZONE
TZID:America/New_York 
END:VTIMEZONE
BEGIN:VEVENT
SEQUENCE:2
TRANSP:OPAQUE
UID:5cb89d1f740737eaaf6e074822d13e60
DTSTART:20260503T190000
DTSTAMP:20260321T130317Z
SUMMARY:ANDY THOMAS - Highway Junkie Tour - Album Release Show
DESCRIPTION:Advance tickets $14.64 total cost. Andy Thomas has worked his way up the ranks as an electrifying guitarist across the United States and abroad, whether it's fronting his own wild-n-out project The Trongone Band or being the six-string rocket fuel for the melodic muscle car that is acclaimed Americana act Yarn. Produced by fellow Virginia native and longtime friend Dave Schools, the legendary bassist for Widespread Panic, and captured at the renowned Spacebomb Studios, Thomas' debut album, "Highway Junkie," connects the dots of Thomas' troubled past and hard-fought strength of self in the present -- this juncture of fiery southern rock & roll and high-octane country blues.
CREATED:20260321T130317Z
URL;VALUE=URI:http://holdmyticket.com/event/460882 

DTEND:20260503T220000
END:VEVENT
END:VCALENDAR