BEGIN:VCALENDAR
METHOD:PUBLISH
X-WR-TIMEZONE:America/New_York
PRODID:-//Hold My Ticket.//HMT Web App//EN
CALSCALE:GREGORIAN
METHOD:PUBLISH
X-WR-CALNAME:Terra Fermata
X-WR-CALDESC:Upcoming events at Terra Fermata
BEGIN:VTIMEZONE
TZID:America/New_York 
END:VTIMEZONE
BEGIN:VEVENT
SEQUENCE:2
TRANSP:OPAQUE
UID:b0fe468f42e0e3a3ea8179e443d0fe2c
DTSTART:20260502T190000
DTSTAMP:20260321T141335Z
SUMMARY:AJEVA 
DESCRIPTION:Advance tickets $12.51 total. Get readyâ€¦ one of Floridaâ€™s most electrifying live acts is BACK.
CREATED:20260321T141335Z
URL;VALUE=URI:http://holdmyticket.com/event/460883 

DTEND:20260502T220000
END:VEVENT
END:VCALENDAR