BEGIN:VCALENDAR
METHOD:PUBLISH
X-WR-TIMEZONE:America/New_York
PRODID:-//Hold My Ticket.//HMT Web App//EN
CALSCALE:GREGORIAN
METHOD:PUBLISH
X-WR-CALNAME:Terra Fermata
X-WR-CALDESC:Upcoming events at Terra Fermata
BEGIN:VTIMEZONE
TZID:America/New_York 
END:VTIMEZONE
BEGIN:VEVENT
SEQUENCE:2
TRANSP:OPAQUE
UID:70b59bf60ae2aa96b648390a7e2b116b
DTSTART:20260523T190000
DTSTAMP:20260327T141156Z
SUMMARY:BROTHERS AFTER ALL - Allman Brothers Tribute
DESCRIPTION:Advance tickets $19.01 total cost. Day of show $25 
CREATED:20260327T141156Z
URL;VALUE=URI:http://holdmyticket.com/event/460884 

DTEND:20260523T220000
END:VEVENT
END:VCALENDAR