BEGIN:VCALENDAR
METHOD:PUBLISH
X-WR-TIMEZONE:America/Denver
PRODID:-//Hold My Ticket.//HMT Web App//EN
CALSCALE:GREGORIAN
METHOD:PUBLISH
X-WR-CALNAME:Launchpad
X-WR-CALDESC:Upcoming events at Launchpad
BEGIN:VTIMEZONE
TZID:America/Denver 
END:VTIMEZONE
BEGIN:VEVENT
SEQUENCE:2
TRANSP:OPAQUE
UID:f5f6e70bd7f2e41b964d2cc79cf2be96
DTSTART:20260619T200000
DTSTAMP:20260414T100021Z
SUMMARY:Wrekonize
DESCRIPTION:
CREATED:20260414T100021Z
URL;VALUE=URI:http://holdmyticket.com/event/460895 

DTEND:20260619T230000
END:VEVENT
END:VCALENDAR