BEGIN:VCALENDAR
METHOD:PUBLISH
X-WR-TIMEZONE:America/Chicago
PRODID:-//Hold My Ticket.//HMT Web App//EN
CALSCALE:GREGORIAN
METHOD:PUBLISH
X-WR-CALNAME:The Railhouse
X-WR-CALDESC:Upcoming events at The Railhouse
BEGIN:VTIMEZONE
TZID:America/Chicago 
END:VTIMEZONE
BEGIN:VEVENT
SEQUENCE:2
TRANSP:OPAQUE
UID:6881c0b5dee8c00d149ad7f4cdaa47ad
DTSTART:20260423T190000
DTSTAMP:20260323T182013Z
SUMMARY:Cash Bingo and Loteria Thursdays
DESCRIPTION:
CREATED:20260323T182013Z
URL;VALUE=URI:http://holdmyticket.com/event/460902 

DTEND:20260423T230000
END:VEVENT
END:VCALENDAR