BEGIN:VCALENDAR
METHOD:PUBLISH
X-WR-TIMEZONE:America/Chicago
PRODID:-//Hold My Ticket.//HMT Web App//EN
CALSCALE:GREGORIAN
METHOD:PUBLISH
X-WR-CALNAME:Luckenbach Texas
X-WR-CALDESC:Upcoming events at Luckenbach Texas
BEGIN:VTIMEZONE
TZID:America/Chicago 
END:VTIMEZONE
BEGIN:VEVENT
SEQUENCE:2
TRANSP:OPAQUE
UID:80cc09ab303f62251a241a9908be4352
DTSTART:20260425T110000
DTSTAMP:20260324T094126Z
SUMMARY:Whalen Wolf & The Two Little Stinkers
DESCRIPTION:
CREATED:20260324T094126Z
URL;VALUE=URI:http://holdmyticket.com/event/460984 

DTEND:20260425T114500
END:VEVENT
END:VCALENDAR