BEGIN:VCALENDAR
METHOD:PUBLISH
X-WR-TIMEZONE:America/Denver
PRODID:-//Hold My Ticket.//HMT Web App//EN
CALSCALE:GREGORIAN
METHOD:PUBLISH
X-WR-CALNAME:Trailside Saloon 
X-WR-CALDESC:Upcoming events at Trailside Saloon 
BEGIN:VTIMEZONE
TZID:America/Denver 
END:VTIMEZONE
BEGIN:VEVENT
SEQUENCE:2
TRANSP:OPAQUE
UID:00ce903e9f35367e56c6e728154ce40b
DTSTART:20260701T190000
DTSTAMP:20260326T201742Z
SUMMARY:Under Exile 
DESCRIPTION:SNP presents: 
Under Exile 

18+ / $12 / $15 / 6:30pm 
CREATED:20260326T201742Z
URL;VALUE=URI:http://holdmyticket.com/event/461071 

DTEND:20260702T010000
END:VEVENT
END:VCALENDAR