BEGIN:VCALENDAR
METHOD:PUBLISH
X-WR-TIMEZONE:America/Denver
PRODID:-//Hold My Ticket.//HMT Web App//EN
CALSCALE:GREGORIAN
METHOD:PUBLISH
X-WR-CALNAME:Buffalo Rose
X-WR-CALDESC:Upcoming events at Buffalo Rose
BEGIN:VTIMEZONE
TZID:America/Denver 
END:VTIMEZONE
BEGIN:VEVENT
SEQUENCE:2
TRANSP:OPAQUE
UID:96909c6381906df2da71e257d7de2a8c
DTSTART:20260508T200000
DTSTAMP:20260416T102212Z
SUMMARY:Still They Ride
DESCRIPTION:
CREATED:20260416T102212Z
URL;VALUE=URI:http://holdmyticket.com/event/461078 

DTEND:20260508T223000
END:VEVENT
END:VCALENDAR