BEGIN:VCALENDAR
METHOD:PUBLISH
X-WR-TIMEZONE:America/Denver
PRODID:-//Hold My Ticket.//HMT Web App//EN
CALSCALE:GREGORIAN
METHOD:PUBLISH
X-WR-CALNAME:El Rey Theater
X-WR-CALDESC:Upcoming events at El Rey Theater
BEGIN:VTIMEZONE
TZID:America/Denver 
END:VTIMEZONE
BEGIN:VEVENT
SEQUENCE:2
TRANSP:OPAQUE
UID:4d2fac2d25546ef974c87a3f4e6b09d0
DTSTART:20260502T190000
DTSTAMP:20260328T141702Z
SUMMARY:NWA New Mexico: Duke City Championship Wrestling Presents: Birthday Bash III
DESCRIPTION:Three years in the making and we're just getting started.

DCCW celebrates its 3rd anniversary with a night built for the fans who have been here since day one and the ones just jumping in. Birthday Bash 3 brings championship stakes, new faces, and the kind of energy only DCCW delivers live.

A special guest from the NWA is coming to town to challenge the current NWA New Mexico Champion. The opponent will be revealed soon, but expect a fight worthy of the moment and the spotlight.

Making his DCCW debut, NWA North American Champion Mike Mondo steps into our ring for the first time. One of the most recognizable names in the NWA today, Mondo brings experience, intensity, and a title that commands attention.

This is more than just another event. It's a celebration of everything DCCW has built over three years and a preview of where it's headed next.

Be there to witness it live.
CREATED:20260328T141702Z
URL;VALUE=URI:http://holdmyticket.com/event/461153 

DTEND:20260502T214500
END:VEVENT
END:VCALENDAR