BEGIN:VCALENDAR
METHOD:PUBLISH
X-WR-TIMEZONE:America/Denver
PRODID:-//Hold My Ticket.//HMT Web App//EN
CALSCALE:GREGORIAN
METHOD:PUBLISH
X-WR-CALNAME:Twilight Cafe and Bar
X-WR-CALDESC:Upcoming events at Twilight Cafe and Bar
BEGIN:VTIMEZONE
TZID:America/Denver 
END:VTIMEZONE
BEGIN:VEVENT
SEQUENCE:2
TRANSP:OPAQUE
UID:d92ef0164dab2b333796078cfc1ba64e
DTSTART:20260703T210000
DTSTAMP:20260329T173404Z
SUMMARY:Jet Set Radio Night! 
DESCRIPTION:JET SET RADIO NIGHT!

w/ MUSIC FROM....
The Prodigy, Gorillaz, Daft Punk, Fatboy Slim, The Chemical Brothers, M.I.A., Basement Jaxx, Beastie Boys, N.E.R.D.,Starjunk 95, Fcukers, LionClad, 100 gecs, Machine Girl, Danny Brown, Amyl and the Sniffers, KNEECAP, Chris Lorenzo, Aphex Twins, SOPHIE, Death Grips
CREATED:20260329T173404Z
URL;VALUE=URI:http://holdmyticket.com/event/461173 

DTEND:20260703T234500
END:VEVENT
END:VCALENDAR