BEGIN:VCALENDAR
METHOD:PUBLISH
X-WR-TIMEZONE:America/Denver
PRODID:-//Hold My Ticket.//HMT Web App//EN
CALSCALE:GREGORIAN
METHOD:PUBLISH
X-WR-CALNAME:Twilight Cafe and Bar
X-WR-CALDESC:Upcoming events at Twilight Cafe and Bar
BEGIN:VTIMEZONE
TZID:America/Denver 
END:VTIMEZONE
BEGIN:VEVENT
SEQUENCE:2
TRANSP:OPAQUE
UID:8913ae974479f9be2a6bddc2763b5d96
DTSTART:20260623T200000
DTSTAMP:20260329T215832Z
SUMMARY:Sunwell w/ Space Weather (PA) w/ Secret Gardens (NY), WithHolden
DESCRIPTION:
CREATED:20260329T215832Z
URL;VALUE=URI:http://holdmyticket.com/event/461177 

DTEND:20260623T234500
END:VEVENT
END:VCALENDAR