BEGIN:VCALENDAR
METHOD:PUBLISH
X-WR-TIMEZONE:America/Denver
PRODID:-//Hold My Ticket.//HMT Web App//EN
CALSCALE:GREGORIAN
METHOD:PUBLISH
X-WR-CALNAME:The Box Performance Space
X-WR-CALDESC:Upcoming events at The Box Performance Space
BEGIN:VTIMEZONE
TZID:America/Denver 
END:VTIMEZONE
BEGIN:VEVENT
SEQUENCE:2
TRANSP:OPAQUE
UID:cac91d9eacee3aaf2295405e21a12b26
DTSTART:20260424T200000
DTSTAMP:20260330T121053Z
SUMMARY:THE SHOW 
DESCRIPTION:
CREATED:20260330T121053Z
URL;VALUE=URI:http://holdmyticket.com/event/461187 

DTEND:20260424T210000
END:VEVENT
END:VCALENDAR