BEGIN:VCALENDAR
METHOD:PUBLISH
X-WR-TIMEZONE:America/Denver
PRODID:-//Hold My Ticket.//HMT Web App//EN
CALSCALE:GREGORIAN
METHOD:PUBLISH
X-WR-CALNAME:The Box Performance Space
X-WR-CALDESC:Upcoming events at The Box Performance Space
BEGIN:VTIMEZONE
TZID:America/Denver 
END:VTIMEZONE
BEGIN:VEVENT
SEQUENCE:2
TRANSP:OPAQUE
UID:591e121710409d2c65560ac8ae9eec45
DTSTART:20260425T200000
DTSTAMP:20260330T121217Z
SUMMARY:THE SHOW 
DESCRIPTION:
CREATED:20260330T121217Z
URL;VALUE=URI:http://holdmyticket.com/event/461188 

DTEND:20260425T210000
END:VEVENT
END:VCALENDAR