BEGIN:VCALENDAR
METHOD:PUBLISH
X-WR-TIMEZONE:America/Denver
PRODID:-//Hold My Ticket.//HMT Web App//EN
CALSCALE:GREGORIAN
METHOD:PUBLISH
X-WR-CALNAME:Buffalo Rose
X-WR-CALDESC:Upcoming events at Buffalo Rose
BEGIN:VTIMEZONE
TZID:America/Denver 
END:VTIMEZONE
BEGIN:VEVENT
SEQUENCE:2
TRANSP:OPAQUE
UID:40a0a03748e9c98b4da47c474b18f577
DTSTART:20260522T190000
DTSTAMP:20260416T141228Z
SUMMARY:Kara Grainger and The Michael Hornbuckle Band 
DESCRIPTION:
CREATED:20260416T141228Z
URL;VALUE=URI:http://holdmyticket.com/event/461191 

DTEND:20260522T223000
END:VEVENT
END:VCALENDAR