BEGIN:VCALENDAR
METHOD:PUBLISH
X-WR-TIMEZONE:America/Denver
PRODID:-//Hold My Ticket.//HMT Web App//EN
CALSCALE:GREGORIAN
METHOD:PUBLISH
X-WR-CALNAME:Launchpad
X-WR-CALDESC:Upcoming events at Launchpad
BEGIN:VTIMEZONE
TZID:America/Denver 
END:VTIMEZONE
BEGIN:VEVENT
SEQUENCE:2
TRANSP:OPAQUE
UID:48fef5d491a82593b4a2d143aa4deb76
DTSTART:20260615T200000
DTSTAMP:20260421T114741Z
SUMMARY:Camping In Alaska * Dear Cincinnati * Glimpse 
DESCRIPTION:* Camping In Alaska * Dear Cincinnati * Glimpse *
CREATED:20260421T114741Z
URL;VALUE=URI:http://holdmyticket.com/event/461211 

DTEND:20260615T230000
END:VEVENT
END:VCALENDAR