BEGIN:VCALENDAR
METHOD:PUBLISH
X-WR-TIMEZONE:America/Denver
PRODID:-//Hold My Ticket.//HMT Web App//EN
CALSCALE:GREGORIAN
METHOD:PUBLISH
X-WR-CALNAME:The Oriental Theater
X-WR-CALDESC:Upcoming events at The Oriental Theater
BEGIN:VTIMEZONE
TZID:America/Denver 
END:VTIMEZONE
BEGIN:VEVENT
SEQUENCE:2
TRANSP:OPAQUE
UID:67bd7e5325d6d77331d941d8a70e7be0
DTSTART:20261120T200000
DTSTAMP:20260421T100011Z
SUMMARY:Book Of Love
DESCRIPTION:
CREATED:20260421T100011Z
URL;VALUE=URI:http://holdmyticket.com/event/461282 

DTEND:20261120T230000
END:VEVENT
END:VCALENDAR