BEGIN:VCALENDAR
METHOD:PUBLISH
X-WR-TIMEZONE:America/Denver
PRODID:-//Hold My Ticket.//HMT Web App//EN
CALSCALE:GREGORIAN
METHOD:PUBLISH
X-WR-CALNAME:The Box Performance Space
X-WR-CALDESC:Upcoming events at The Box Performance Space
BEGIN:VTIMEZONE
TZID:America/Denver 
END:VTIMEZONE
BEGIN:VEVENT
SEQUENCE:2
TRANSP:OPAQUE
UID:e1ec7ca98ef535cbce0df213de471a2e
DTSTART:20260515T203000
DTSTAMP:20260401T111536Z
SUMMARY:The Characterrarium
DESCRIPTION:
CREATED:20260401T111536Z
URL;VALUE=URI:http://holdmyticket.com/event/461446 

DTEND:20260515T213000
END:VEVENT
END:VCALENDAR