BEGIN:VCALENDAR
METHOD:PUBLISH
X-WR-TIMEZONE:America/Chicago
PRODID:-//Hold My Ticket.//HMT Web App//EN
CALSCALE:GREGORIAN
METHOD:PUBLISH
X-WR-CALNAME:The Railhouse
X-WR-CALDESC:Upcoming events at The Railhouse
BEGIN:VTIMEZONE
TZID:America/Chicago 
END:VTIMEZONE
BEGIN:VEVENT
SEQUENCE:2
TRANSP:OPAQUE
UID:9625cac37c064caf9b921f38507b48fb
DTSTART:20260503T180000
DTSTAMP:20260422T095115Z
SUMMARY:The Mox
DESCRIPTION:
CREATED:20260422T095115Z
URL;VALUE=URI:http://holdmyticket.com/event/461459 

DTEND:20260503T214500
END:VEVENT
END:VCALENDAR