BEGIN:VCALENDAR
METHOD:PUBLISH
X-WR-TIMEZONE:America/Chicago
PRODID:-//Hold My Ticket.//HMT Web App//EN
CALSCALE:GREGORIAN
METHOD:PUBLISH
X-WR-CALNAME:Luckenbach Texas
X-WR-CALDESC:Upcoming events at Luckenbach Texas
BEGIN:VTIMEZONE
TZID:America/Chicago 
END:VTIMEZONE
BEGIN:VEVENT
SEQUENCE:2
TRANSP:OPAQUE
UID:03d649157cceccbb6bbe380030e4e38d
DTSTART:20260424T120000
DTSTAMP:20260408T124907Z
SUMMARY:Braden Toomey
DESCRIPTION:
CREATED:20260408T124907Z
URL;VALUE=URI:http://holdmyticket.com/event/461476 

DTEND:20260424T160000
END:VEVENT
END:VCALENDAR