BEGIN:VCALENDAR
METHOD:PUBLISH
X-WR-TIMEZONE:America/Denver
PRODID:-//Hold My Ticket.//HMT Web App//EN
CALSCALE:GREGORIAN
METHOD:PUBLISH
X-WR-CALNAME:Buffalo Rose
X-WR-CALDESC:Upcoming events at Buffalo Rose
BEGIN:VTIMEZONE
TZID:America/Denver 
END:VTIMEZONE
BEGIN:VEVENT
SEQUENCE:2
TRANSP:OPAQUE
UID:5f6adad9583863438e52c9be81c41432
DTSTART:20260523T190000
DTSTAMP:20260414T135203Z
SUMMARY:Ana Popovic
DESCRIPTION:
CREATED:20260414T135203Z
URL;VALUE=URI:http://holdmyticket.com/event/461481 

DTEND:20260523T223000
END:VEVENT
END:VCALENDAR