BEGIN:VCALENDAR
METHOD:PUBLISH
X-WR-TIMEZONE:America/Denver
PRODID:-//Hold My Ticket.//HMT Web App//EN
CALSCALE:GREGORIAN
METHOD:PUBLISH
X-WR-CALNAME:The Dirty Bourbon, Dance Hall & Saloon
X-WR-CALDESC:Upcoming events at The Dirty Bourbon, Dance Hall & Saloon
BEGIN:VTIMEZONE
TZID:America/Denver 
END:VTIMEZONE
BEGIN:VEVENT
SEQUENCE:2
TRANSP:OPAQUE
UID:f23dc7411f7195d98beed95d96590a20
DTSTART:20260710T210000
DTSTAMP:20260406T100330Z
SUMMARY:West Bound Hearts
DESCRIPTION:
CREATED:20260406T100330Z
URL;VALUE=URI:http://holdmyticket.com/event/461586 

DTEND:20260711T020000
END:VEVENT
END:VCALENDAR