BEGIN:VCALENDAR
METHOD:PUBLISH
X-WR-TIMEZONE:America/Denver
PRODID:-//Hold My Ticket.//HMT Web App//EN
CALSCALE:GREGORIAN
METHOD:PUBLISH
X-WR-CALNAME:The Dirty Bourbon, Dance Hall & Saloon
X-WR-CALDESC:Upcoming events at The Dirty Bourbon, Dance Hall & Saloon
BEGIN:VTIMEZONE
TZID:America/Denver 
END:VTIMEZONE
BEGIN:VEVENT
SEQUENCE:2
TRANSP:OPAQUE
UID:b4f073233da080cf6dbe838939b73106
DTSTART:20260711T210000
DTSTAMP:20260406T100330Z
SUMMARY:West Bound Hearts
DESCRIPTION:
CREATED:20260406T100330Z
URL;VALUE=URI:http://holdmyticket.com/event/461587 

DTEND:20260712T020000
END:VEVENT
END:VCALENDAR