BEGIN:VCALENDAR
METHOD:PUBLISH
X-WR-TIMEZONE:America/Denver
PRODID:-//Hold My Ticket.//HMT Web App//EN
CALSCALE:GREGORIAN
METHOD:PUBLISH
X-WR-CALNAME:The Dirty Bourbon, Dance Hall & Saloon
X-WR-CALDESC:Upcoming events at The Dirty Bourbon, Dance Hall & Saloon
BEGIN:VTIMEZONE
TZID:America/Denver 
END:VTIMEZONE
BEGIN:VEVENT
SEQUENCE:2
TRANSP:OPAQUE
UID:ff44758e0164c9aef46ec9c4d6b9de77
DTSTART:20260704T180000
DTSTAMP:20260410T093706Z
SUMMARY:Live DJ!
DESCRIPTION:
CREATED:20260410T093706Z
URL;VALUE=URI:http://holdmyticket.com/event/461592 

DTEND:20260705T020000
END:VEVENT
END:VCALENDAR