BEGIN:VCALENDAR
METHOD:PUBLISH
X-WR-TIMEZONE:America/Denver
PRODID:-//Hold My Ticket.//HMT Web App//EN
CALSCALE:GREGORIAN
METHOD:PUBLISH
X-WR-CALNAME:Launchpad
X-WR-CALDESC:Upcoming events at Launchpad
BEGIN:VTIMEZONE
TZID:America/Denver 
END:VTIMEZONE
BEGIN:VEVENT
SEQUENCE:2
TRANSP:OPAQUE
UID:bfed8ca5f33e74a0e91e049ab54b8b57
DTSTART:20260719T190000
DTSTAMP:20260422T085816Z
SUMMARY:The Word Alive - Deceiver & Dark Matter
DESCRIPTION:* The Word Alive * Not Enough Space * Downswing * Code:Words * 
Deceiver & Dark Matter

Sunday, July 19, 2026
Doors 630pm | Show 7pm
Launchpad 
ABQ NM 
all ages 

Advance tickets - $21.50 + service charge
Ticket prices may increase day of show
https://www.facebook.com/events/2027601401525287


CREATED:20260422T085816Z
URL;VALUE=URI:http://holdmyticket.com/event/461622 

DTEND:20260719T230000
END:VEVENT
END:VCALENDAR