BEGIN:VCALENDAR
METHOD:PUBLISH
X-WR-TIMEZONE:America/Denver
PRODID:-//Hold My Ticket.//HMT Web App//EN
CALSCALE:GREGORIAN
METHOD:PUBLISH
X-WR-CALNAME:Meow Wolf
X-WR-CALDESC:Upcoming events at Meow Wolf
BEGIN:VTIMEZONE
TZID:America/Denver 
END:VTIMEZONE
BEGIN:VEVENT
SEQUENCE:2
TRANSP:OPAQUE
UID:72dfa16951ed44bc03cbd8305f4a0604
DTSTART:20260617T210000
DTSTAMP:20260420T020010Z
SUMMARY:Buckethead
DESCRIPTION:Buckethead is a virtuoso guitarist and multi-instrumentalist who performs within many genres  of music. He has released over 700 studio recordings, way more than anyone else in the history  of music. 650+ of those are in his Pike series. He has also performed on over 50 more albums by other artists. His music spans such diverse areas as progressive metal, funk, blues, jazz,  bluegrass, and avant-garde. 
CREATED:20260420T020010Z
URL;VALUE=URI:http://holdmyticket.com/event/461624 

DTEND:20260617T230000
END:VEVENT
END:VCALENDAR