BEGIN:VCALENDAR
METHOD:PUBLISH
X-WR-TIMEZONE:America/Denver
PRODID:-//Hold My Ticket.//HMT Web App//EN
CALSCALE:GREGORIAN
METHOD:PUBLISH
X-WR-CALNAME:KiMo Theatre
X-WR-CALDESC:Upcoming events at KiMo Theatre
BEGIN:VTIMEZONE
TZID:America/Denver 
END:VTIMEZONE
BEGIN:VEVENT
SEQUENCE:2
TRANSP:OPAQUE
UID:e4705b65b64d764aab1b133aa3412f11
DTSTART:20260604T180000
DTSTAMP:20260420T030010Z
SUMMARY:A Word with Writers - Deb Haaland
DESCRIPTION:Bookworks and the Albuquerque Public Library Foundation are delighted to present A Word with Writers, featuring Deb Haaland for the release of her memoir, A Voice Like Mine. This event is presented in collaboration with AMP Concerts. Doors open at 5, and the talk will begin at 6 PM, followed by a book signing.
CREATED:20260420T030010Z
URL;VALUE=URI:http://holdmyticket.com/event/461627 

DTEND:20260604T200000
END:VEVENT
END:VCALENDAR