BEGIN:VCALENDAR
METHOD:PUBLISH
X-WR-TIMEZONE:America/Los_Angeles
PRODID:-//Hold My Ticket.//HMT Web App//EN
CALSCALE:GREGORIAN
METHOD:PUBLISH
X-WR-CALNAME:Humboldt Brews
X-WR-CALDESC:Upcoming events at Humboldt Brews
BEGIN:VTIMEZONE
TZID:America/Los_Angeles 
END:VTIMEZONE
BEGIN:VEVENT
SEQUENCE:2
TRANSP:OPAQUE
UID:befe5303f5889c94d172f255d575dbef
DTSTART:20260502T213000
DTSTAMP:20260407T131109Z
SUMMARY:The Hitch, Magic of Spells
DESCRIPTION:Legendary funk metal band The Hitch is back with all original members.
CREATED:20260407T131109Z
URL;VALUE=URI:http://holdmyticket.com/event/461649 

DTEND:20260502T233000
END:VEVENT
END:VCALENDAR