BEGIN:VCALENDAR
METHOD:PUBLISH
X-WR-TIMEZONE:America/Denver
PRODID:-//Hold My Ticket.//HMT Web App//EN
CALSCALE:GREGORIAN
METHOD:PUBLISH
X-WR-CALNAME:The Dirty Bourbon, Dance Hall & Saloon
X-WR-CALDESC:Upcoming events at The Dirty Bourbon, Dance Hall & Saloon
BEGIN:VTIMEZONE
TZID:America/Denver 
END:VTIMEZONE
BEGIN:VEVENT
SEQUENCE:2
TRANSP:OPAQUE
UID:7152622d0b65a67f1f112681ceb16166
DTSTART:20260702T210000
DTSTAMP:20260410T121143Z
SUMMARY:Mustang Disposition
DESCRIPTION:
CREATED:20260410T121143Z
URL;VALUE=URI:http://holdmyticket.com/event/461740 

DTEND:20260703T020000
END:VEVENT
END:VCALENDAR