BEGIN:VCALENDAR
METHOD:PUBLISH
X-WR-TIMEZONE:America/New_York
PRODID:-//Hold My Ticket.//HMT Web App//EN
CALSCALE:GREGORIAN
METHOD:PUBLISH
X-WR-CALNAME:Terra Fermata
X-WR-CALDESC:Upcoming events at Terra Fermata
BEGIN:VTIMEZONE
TZID:America/New_York 
END:VTIMEZONE
BEGIN:VEVENT
SEQUENCE:2
TRANSP:OPAQUE
UID:bdfa069fe2aa7d5086a81a4e194300be
DTSTART:20260427T190000
DTSTAMP:20260412T192630Z
SUMMARY:MONDAY NIGHT RAMBLE
DESCRIPTION:HAPPY HOUR DRINK PRICES ALL NIGHT. The Ramble each week will host a different group of local band members for an all-star band of musicians. Plus select guests sitting in. $10 admission. GUESTS TONIGHT TBA
CREATED:20260412T192630Z
URL;VALUE=URI:http://holdmyticket.com/event/461803 

DTEND:20260427T220000
END:VEVENT
END:VCALENDAR