BEGIN:VCALENDAR
METHOD:PUBLISH
X-WR-TIMEZONE:America/Denver
PRODID:-//Hold My Ticket.//HMT Web App//EN
CALSCALE:GREGORIAN
METHOD:PUBLISH
X-WR-CALNAME:Insideout
X-WR-CALDESC:Upcoming events at Insideout
BEGIN:VTIMEZONE
TZID:America/Denver 
END:VTIMEZONE
BEGIN:VEVENT
SEQUENCE:2
TRANSP:OPAQUE
UID:f6891b79523d2518daeef3c4487cd1e3
DTSTART:20260516T203000
DTSTAMP:20260420T130103Z
SUMMARY:Space Disco
DESCRIPTION:
CREATED:20260420T130103Z
URL;VALUE=URI:http://holdmyticket.com/event/461815 

DTEND:20260516T230000
END:VEVENT
END:VCALENDAR