BEGIN:VCALENDAR
METHOD:PUBLISH
X-WR-TIMEZONE:America/Denver
PRODID:-//Hold My Ticket.//HMT Web App//EN
CALSCALE:GREGORIAN
METHOD:PUBLISH
X-WR-CALNAME:The Dirty Bourbon, Dance Hall & Saloon
X-WR-CALDESC:Upcoming events at The Dirty Bourbon, Dance Hall & Saloon
BEGIN:VTIMEZONE
TZID:America/Denver 
END:VTIMEZONE
BEGIN:VEVENT
SEQUENCE:2
TRANSP:OPAQUE
UID:db67f22be0535c7a1cc1aa18e13a6fda
DTSTART:20260425T133000
DTSTAMP:20260413T112806Z
SUMMARY:BINGO at Bourbon House
DESCRIPTION:
CREATED:20260413T112806Z
URL;VALUE=URI:http://holdmyticket.com/event/461816 

DTEND:20260425T153000
END:VEVENT
END:VCALENDAR