BEGIN:VCALENDAR
METHOD:PUBLISH
X-WR-TIMEZONE:America/Denver
PRODID:-//Hold My Ticket.//HMT Web App//EN
CALSCALE:GREGORIAN
METHOD:PUBLISH
X-WR-CALNAME:Buffalo Rose
X-WR-CALDESC:Upcoming events at Buffalo Rose
BEGIN:VTIMEZONE
TZID:America/Denver 
END:VTIMEZONE
BEGIN:VEVENT
SEQUENCE:2
TRANSP:OPAQUE
UID:ea4f53f0d9ee03e8baf590e7b85c94f3
DTSTART:20260509T200000
DTSTAMP:20260416T130437Z
SUMMARY:Forever Dangerous
DESCRIPTION:
CREATED:20260416T130437Z
URL;VALUE=URI:http://holdmyticket.com/event/461838 

DTEND:20260509T230000
END:VEVENT
END:VCALENDAR