BEGIN:VCALENDAR
METHOD:PUBLISH
X-WR-TIMEZONE:America/Denver
PRODID:-//Hold My Ticket.//HMT Web App//EN
CALSCALE:GREGORIAN
METHOD:PUBLISH
X-WR-CALNAME:Buffalo Rose
X-WR-CALDESC:Upcoming events at Buffalo Rose
BEGIN:VTIMEZONE
TZID:America/Denver 
END:VTIMEZONE
BEGIN:VEVENT
SEQUENCE:2
TRANSP:OPAQUE
UID:223bb451ff735bdeade6c76262041675
DTSTART:20260626T200000
DTSTAMP:20260415T170240Z
SUMMARY:Acoustic Alchemy 
DESCRIPTION:
CREATED:20260415T170240Z
URL;VALUE=URI:http://holdmyticket.com/event/461840 

DTEND:20260626T213000
END:VEVENT
END:VCALENDAR