BEGIN:VCALENDAR
METHOD:PUBLISH
X-WR-TIMEZONE:America/Denver
PRODID:-//Hold My Ticket.//HMT Web App//EN
CALSCALE:GREGORIAN
METHOD:PUBLISH
X-WR-CALNAME:Launchpad
X-WR-CALDESC:Upcoming events at Launchpad
BEGIN:VTIMEZONE
TZID:America/Denver 
END:VTIMEZONE
BEGIN:VEVENT
SEQUENCE:2
TRANSP:OPAQUE
UID:08f65a58c430e9f3cea9db277d71677c
DTSTART:20260722T200000
DTSTAMP:20260422T110118Z
SUMMARY:Starcrawler 
DESCRIPTION:* Starcrawler *
CREATED:20260422T110118Z
URL;VALUE=URI:http://holdmyticket.com/event/461846 

DTEND:20260722T230000
END:VEVENT
END:VCALENDAR